BEGIN:VCALENDAR
VERSION:2.0
PRODID:-//hacksw/handcal//NONSGML v1.0//EN
BEGIN:VEVENT
DTSTAMP:20260913T215500Z
DTSTART:20260913T215500Z
DTEND:20260913T215500Z
SUMMARY:FRIST CDU intern Heft 
END:VEVENT
END:VCALENDAR
