BEGIN:VCALENDAR
VERSION:2.0
PRODID:-//hacksw/handcal//NONSGML v1.0//EN
BEGIN:VEVENT
DTSTAMP:20260429T170000Z
DTSTART:20260429T170000Z
DTEND:20260429T170000Z
SUMMARY:Stammtisch der CDU Ehingen
END:VEVENT
END:VCALENDAR
