BEGIN:VCALENDAR
VERSION:2.0
PRODID:-//hacksw/handcal//NONSGML v1.0//EN
BEGIN:VEVENT
DTSTAMP:20260428T173000Z
DTSTART:20260428T173000Z
DTEND:20260428T173000Z
SUMMARY:CDU Gemeindeverband Ulmer Alb: Mitgliederversammlung
END:VEVENT
BEGIN:VEVENT
DTSTAMP:20260429T170000Z
DTSTART:20260429T170000Z
DTEND:20260429T170000Z
SUMMARY:Stammtisch der CDU Ehingen
END:VEVENT
BEGIN:VEVENT
DTSTAMP:20260502T080000Z
DTSTART:20260502T080000Z
DTEND:20260502T080000Z
SUMMARY:Funktions- und Mandatsträgerkonferenz CDU Baden-Württemberg
END:VEVENT
BEGIN:VEVENT
DTSTAMP:20260506T170000Z
DTSTART:20260506T170000Z
DTEND:20260506T170000Z
SUMMARY:CDU Erbach: Dämmerschoppen mit Heinz Seiffert, Landrat a.D.
END:VEVENT
BEGIN:VEVENT
DTSTAMP:20260509T080000Z
DTSTART:20260509T080000Z
DTEND:20260509T080000Z
SUMMARY:Landesparteitag CDU Baden-Württemberg
END:VEVENT
BEGIN:VEVENT
DTSTAMP:20260511T173000Z
DTSTART:20260511T173000Z
DTEND:20260511T173000Z
SUMMARY:CDU Kreisvorstand
END:VEVENT
BEGIN:VEVENT
DTSTAMP:20260512T173000Z
DTSTART:20260512T173000Z
DTEND:20260512T173000Z
SUMMARY:CDU Ulm: Vorstandssitzung
END:VEVENT
BEGIN:VEVENT
DTSTAMP:20260630T173000Z
DTSTART:20260630T173000Z
DTEND:20260630T173000Z
SUMMARY:CDU Ulm: Vorstandssitzung
END:VEVENT
BEGIN:VEVENT
DTSTAMP:20260713T173000Z
DTSTART:20260713T173000Z
DTEND:20260713T173000Z
SUMMARY:CDU Kreisvorstand
END:VEVENT
BEGIN:VEVENT
DTSTAMP:20260723T173000Z
DTSTART:20260723T173000Z
DTEND:20260723T173000Z
SUMMARY:CDU Ulm: Vorstandssitzung
END:VEVENT
BEGIN:VEVENT
DTSTAMP:20260913T215500Z
DTSTART:20260913T215500Z
DTEND:20260913T215500Z
SUMMARY:FRIST CDU intern Heft 
END:VEVENT
BEGIN:VEVENT
DTSTAMP:20261107T183000Z
DTSTART:20261107T183000Z
DTEND:20261107T183000Z
SUMMARY:80 Jahr Feier CDU Erbach
END:VEVENT
END:VCALENDAR
